BEGIN:VCALENDAR
VERSION:2.0
PRODID:www.proqr.com
X-PUBLISHED-TTL:P1W
BEGIN:VEVENT
UID:69e71ae95a672
DTSTART:20211202T154000Z
SEQUENCE:0
TRANSP:OPAQUE
DTEND:20211202T160000Z
SUMMARY:Evercore ISI 4th Annual HealthCONx Conference
CLASS:PUBLIC
DTSTAMP:20260421T063625Z
END:VEVENT
END:VCALENDAR