BEGIN:VCALENDAR
VERSION:2.0
PRODID:www.proqr.com
X-PUBLISHED-TTL:P1W
BEGIN:VEVENT
UID:69e8d32c7ef14
DTSTART:20230323T000000Z
SEQUENCE:0
TRANSP:OPAQUE
DTEND:20230323T235959Z
SUMMARY:RNA Editing Gordon Research Conference (GRC)
CLASS:PUBLIC
DTSTAMP:20260422T135452Z
END:VEVENT
END:VCALENDAR