BEGIN:VCALENDAR
VERSION:2.0
PRODID:www.proqr.com
X-PUBLISHED-TTL:P1W
BEGIN:VEVENT
UID:69e8aa291a57c
DTSTART:20251021T000000Z
SEQUENCE:0
TRANSP:OPAQUE
DTEND:20251022T235959Z
SUMMARY:H.C. Wainwright Liver Disease Virtual Conference
CLASS:PUBLIC
DTSTAMP:20260422T105953Z
END:VEVENT
END:VCALENDAR